BEGIN:VCALENDAR
VERSION:2.0
PRODID:-//ChamberMaster//Event Calendar 2.0//EN
METHOD:PUBLISH
X-PUBLISHED-TTL:P3D
REFRESH-INTERVAL:P3D
CALSCALE:GREGORIAN
BEGIN:VEVENT
DTSTART:20260503T180000Z
DTEND:20260504T040000Z
X-MICROSOFT-CDO-ALLDAYEVENT:FALSE
SUMMARY:Sharetea Delano 2 Year Anniversary Celebration
DESCRIPTION:DELANO\, come celebrate TWO YEARS    of Sharetea Delano  \n\non MAY 3rd\, we are offering a FREE special classic pearl milk tea in a BEAR cup   \, for our first 100 customers that day \n\n(Limited to one bear cup for each person who purchases any drink off our menu\, who's also one of th first 100 customers that day!)
X-ALT-DESC;FMTTYPE=text/html:<span style="color: rgb(12\, 16\, 20)\; font-family: -apple-system\, BlinkMacSystemFont\, &quot\;Segoe UI&quot\;\, Roboto\, Helvetica\, Arial\, sans-serif\; font-size: 14px\;">DELANO\, come celebrate TWO YEARS &#127881\;&#129395\; of Sharetea Delano&#10084\;&#65039\;</span><br style="color: rgb(12\, 16\, 20)\; font-family: -apple-system\, BlinkMacSystemFont\, &quot\;Segoe UI&quot\;\, Roboto\, Helvetica\, Arial\, sans-serif\; font-size: 14px\;" />\n<span style="color: rgb(12\, 16\, 20)\; font-family: -apple-system\, BlinkMacSystemFont\, &quot\;Segoe UI&quot\;\, Roboto\, Helvetica\, Arial\, sans-serif\; font-size: 14px\;">on MAY 3rd\, we are offering a FREE special classic pearl milk tea in a BEAR cup &#129528\; \, for our first 100 customers that day&#128521\;</span><br style="color: rgb(12\, 16\, 20)\; font-family: -apple-system\, BlinkMacSystemFont\, &quot\;Segoe UI&quot\;\, Roboto\, Helvetica\, Arial\, sans-serif\; font-size: 14px\;" />\n<span style="color: rgb(12\, 16\, 20)\; font-family: -apple-system\, BlinkMacSystemFont\, &quot\;Segoe UI&quot\;\, Roboto\, Helvetica\, Arial\, sans-serif\; font-size: 14px\;">(Limited to one bear cup for each person who purchases any drink off our menu\, who&rsquo\;s also one of th first 100 customers that day!)</span>
LOCATION:Sharetea 510 Woollomes Ave\, #101 Delano\, CA\, 93215
UID:e.2405.1149
SEQUENCE:3
DTSTAMP:20260424T093147Z
URL:https://business.delanochamberofcommerce.org/events/details/sharetea-delano-2-year-anniversary-celebration-1149
END:VEVENT

END:VCALENDAR
