BEGIN:VCALENDAR
VERSION:2.0
PRODID:-//ChamberMaster//Event Calendar 2.0//EN
METHOD:PUBLISH
X-PUBLISHED-TTL:P3D
REFRESH-INTERVAL:P3D
CALSCALE:GREGORIAN
BEGIN:VEVENT
DTSTART:20260711T160000Z
DTEND:20260711T200000Z
X-MICROSOFT-CDO-ALLDAYEVENT:FALSE
SUMMARY:GNC Family Clinic Community Health Fair
DESCRIPTION:Community health fair. We will have booths with informational brochures and give aways. Everyone is welcome.
X-ALT-DESC;FMTTYPE=text/html:Community health fair. We will have booths with informational brochures and give aways. Everyone is welcome.
LOCATION:1500 6th Avenue\, Delano Ca 93215
UID:e.2405.1148
SEQUENCE:3
DTSTAMP:20260424T082244Z
URL:https://business.delanochamberofcommerce.org/events/details/gnc-family-clinic-community-health-fair-1148
END:VEVENT

END:VCALENDAR
