BEGIN:VCALENDAR
VERSION:2.0
PRODID:-//ChamberMaster//Event Calendar 2.0//EN
METHOD:PUBLISH
X-PUBLISHED-TTL:P3D
REFRESH-INTERVAL:P3D
CALSCALE:GREGORIAN
BEGIN:VEVENT
DTSTART;VALUE=DATE:20261016
DTEND;VALUE=DATE:20261019
TRANSP:TRANSPARENT
X-MICROSOFT-CDO-ALLDAYEVENT:TRUE
SUMMARY:48th Annual Philippine Weekend
DESCRIPTION:
X-ALT-DESC;FMTTYPE=text/html:
LOCATION:Delano Memorial Park
UID:e.2405.1147
SEQUENCE:3
DTSTAMP:20260424T105418Z
URL:https://business.delanochamberofcommerce.org/events/details/48th-annual-philippine-weekend-1147
END:VEVENT

END:VCALENDAR
